BEGIN:VCALENDAR
VERSION:2.0
PRODID:https://github.com/derhansen/sf_event_mgt
METHOD:PUBLISH
BEGIN:VEVENT
UID:1011-922@bg.agh.edu.pl
CLASS: PUBLIC
SUMMARY:Simplify research workflows with EndNote
DESCRIPTION:Obecnie proces tworzenia publikacji naukowych obejmuje wykorzys
 tanie wielu różnych źródeł informacji, dlatego bardzo ważna jest pomoc w za
 rządzaniu bibliografią, którą oferuje EndNote – narzędzie firmy Clarivate A
 nalytics.Podczas sesji zostaną omówione następujące zagadnienia:integracja 
 EndNote z Microsoft Word i Google Docs,usprawnienie gromadzenia odniesień z
  baz danych i źródeł internetowych,utrzymywanie porządku w bibliografii,wsp
 ieranie współpracy w badaniach naukowych,zapewnienie spójności stylów cytow
 ań.Webinarium będzie prowadzone w języku angielskim.Termin: 28.04.2026, god
 z. 17.00Zarejestruj się 
DTSTAMP:20260409T163859Z
DTSTART:20260428T150000Z
DTEND:20260428T160000Z
END:VEVENT
END:VCALENDAR