BEGIN:VCALENDAR
VERSION:2.0
PRODID:https://github.com/derhansen/sf_event_mgt
METHOD:PUBLISH
BEGIN:VEVENT
UID:997-922@bg.agh.edu.pl
CLASS: PUBLIC
SUMMARY:Introduction to Scopus AI
DESCRIPTION:Scopus AI łączy wiarygodne, recenzowane treści z zaawansowaną s
 ztuczną inteligencją, zapewniając szybszy i bardziej dogłębny dostęp do bad
 ań naukowych. Jest to narzędzie stworzone z myślą o środowisku akademickim,
  które usprawnia wyszukiwanie informacji, rozpoznaje wzorce i wspiera myśle
 nie strategiczne przy zachowaniu wysokich standardów naukowych.Webinarium b
 ędzie prowadzone w języku angielskim.Termin: 28.04.2026, godz. 10.30Zarejes
 truj się 
DTSTAMP:20260328T063433Z
DTSTART:20260428T083000Z
DTEND:20260428T093000Z
END:VEVENT
END:VCALENDAR